BEGIN:VCALENDAR
VERSION:2.0
PRODID:-//CLUB ROYAL POOL - ECPv6.15.20//NONSGML v1.0//EN
CALSCALE:GREGORIAN
METHOD:PUBLISH
X-WR-CALNAME:CLUB ROYAL POOL
X-ORIGINAL-URL:https://clubroyalpool.org
X-WR-CALDESC:Events for CLUB ROYAL POOL
REFRESH-INTERVAL;VALUE=DURATION:PT1H
X-Robots-Tag:noindex
X-PUBLISHED-TTL:PT1H
BEGIN:VTIMEZONE
TZID:America/Chicago
BEGIN:DAYLIGHT
TZOFFSETFROM:-0600
TZOFFSETTO:-0500
TZNAME:CDT
DTSTART:20240310T080000
END:DAYLIGHT
BEGIN:STANDARD
TZOFFSETFROM:-0500
TZOFFSETTO:-0600
TZNAME:CST
DTSTART:20241103T070000
END:STANDARD
BEGIN:DAYLIGHT
TZOFFSETFROM:-0600
TZOFFSETTO:-0500
TZNAME:CDT
DTSTART:20250309T080000
END:DAYLIGHT
BEGIN:STANDARD
TZOFFSETFROM:-0500
TZOFFSETTO:-0600
TZNAME:CST
DTSTART:20251102T070000
END:STANDARD
BEGIN:DAYLIGHT
TZOFFSETFROM:-0600
TZOFFSETTO:-0500
TZNAME:CDT
DTSTART:20260308T080000
END:DAYLIGHT
BEGIN:STANDARD
TZOFFSETFROM:-0500
TZOFFSETTO:-0600
TZNAME:CST
DTSTART:20261101T070000
END:STANDARD
END:VTIMEZONE
BEGIN:VEVENT
DTSTART;TZID=America/Chicago:20250906T190000
DTEND;TZID=America/Chicago:20250906T220000
DTSTAMP:20260421T043334
CREATED:20250604T221357Z
LAST-MODIFIED:20250809T211058Z
UID:2752-1757185200-1757196000@clubroyalpool.org
SUMMARY:Auction - Palm Royale
DESCRIPTION:Have something to donate for the auction? Complete the donation form here: Save Club Royal Auction Donation Form \nThe fundraising team has been busy behind the scenes planning our BIGGEST fundraiser of the year to help SAVE CLUB ROYAL! \nOur Club Royal Adults Only Auction will be held on September 6\, 2025 from 7-10 pm at Sparkman Clubhouse.\nWith a Palm Royale theme\, it will take us back to the era when Club Royal Pool first opened.\nCocktails – Silent Auction – Bites – Community Vibes \nMusic by the band Topanga (90’s band from Sparkman) \nBuy your tickets at https://auctria.events/clubroyalpool \nTicket prices will go up to $70 on August 23rd so buy them now for $60.\nYour ticket includes Drinks\, Bites & Silent Auction fun.\n\nAgain\, we appreciate your support\, and we need everyone in our community’s help to SAVE CLUB ROYAL.
URL:https://clubroyalpool.org/event/auction-2025/
LOCATION:Sparkman Clubhouse\, 3366 Duchess Trail\, Dallas\, TX\, 75229\, United States
CATEGORIES:Adults Only Night
ATTACH;FMTTYPE=image/png:https://clubroyalpool.org/wp-content/uploads/2025/06/Palm-Royale-1-e1754771805466.png
END:VEVENT
END:VCALENDAR