BEGIN:VCALENDAR
VERSION:2.0
PRODID:-//CLUB ROYAL POOL - ECPv6.15.20//NONSGML v1.0//EN
CALSCALE:GREGORIAN
METHOD:PUBLISH
X-WR-CALNAME:CLUB ROYAL POOL
X-ORIGINAL-URL:https://clubroyalpool.org
X-WR-CALDESC:Events for CLUB ROYAL POOL
REFRESH-INTERVAL;VALUE=DURATION:PT1H
X-Robots-Tag:noindex
X-PUBLISHED-TTL:PT1H
BEGIN:VTIMEZONE
TZID:America/Chicago
BEGIN:DAYLIGHT
TZOFFSETFROM:-0600
TZOFFSETTO:-0500
TZNAME:CDT
DTSTART:20240310T080000
END:DAYLIGHT
BEGIN:STANDARD
TZOFFSETFROM:-0500
TZOFFSETTO:-0600
TZNAME:CST
DTSTART:20241103T070000
END:STANDARD
BEGIN:DAYLIGHT
TZOFFSETFROM:-0600
TZOFFSETTO:-0500
TZNAME:CDT
DTSTART:20250309T080000
END:DAYLIGHT
BEGIN:STANDARD
TZOFFSETFROM:-0500
TZOFFSETTO:-0600
TZNAME:CST
DTSTART:20251102T070000
END:STANDARD
BEGIN:DAYLIGHT
TZOFFSETFROM:-0600
TZOFFSETTO:-0500
TZNAME:CDT
DTSTART:20260308T080000
END:DAYLIGHT
BEGIN:STANDARD
TZOFFSETFROM:-0500
TZOFFSETTO:-0600
TZNAME:CST
DTSTART:20261101T070000
END:STANDARD
END:VTIMEZONE
BEGIN:VEVENT
DTSTART;TZID=America/Chicago:20250718T193000
DTEND;TZID=America/Chicago:20250718T220000
DTSTAMP:20260421T072657
CREATED:20250322T214458Z
LAST-MODIFIED:20250710T024715Z
UID:2446-1752867000-1752876000@clubroyalpool.org
SUMMARY:Guys Poker Night
DESCRIPTION:FRIDAY JULY 18TH \nCLUB ROYAL POOL \n$30 BUY IN – VENMO @CLUBROYALPOOL \nClub Royal Pool Venmo \nCHECK-IN 7:30 – BYOB
URL:https://clubroyalpool.org/event/whiskey-cigars-night/
LOCATION:CLUB ROYAL POOL\, 3433 Townsend Drive\, Dallas\, TX\, 75229\, United States
CATEGORIES:Adults Only Night
ATTACH;FMTTYPE=image/jpeg:https://clubroyalpool.org/wp-content/uploads/2025/03/IMG_1244-1.jpeg
END:VEVENT
END:VCALENDAR